BEGIN:VCALENDAR
VERSION:2.0
PRODID:-//North Park Church - ECPv6.15.20//NONSGML v1.0//EN
CALSCALE:GREGORIAN
METHOD:PUBLISH
X-ORIGINAL-URL:https://northparklima.org
X-WR-CALDESC:Events for North Park Church
REFRESH-INTERVAL;VALUE=DURATION:PT1H
X-Robots-Tag:noindex
X-PUBLISHED-TTL:PT1H
BEGIN:VTIMEZONE
TZID:America/New_York
BEGIN:DAYLIGHT
TZOFFSETFROM:-0500
TZOFFSETTO:-0400
TZNAME:EDT
DTSTART:20200308T070000
END:DAYLIGHT
BEGIN:STANDARD
TZOFFSETFROM:-0400
TZOFFSETTO:-0500
TZNAME:EST
DTSTART:20201101T060000
END:STANDARD
BEGIN:DAYLIGHT
TZOFFSETFROM:-0500
TZOFFSETTO:-0400
TZNAME:EDT
DTSTART:20210314T070000
END:DAYLIGHT
BEGIN:STANDARD
TZOFFSETFROM:-0400
TZOFFSETTO:-0500
TZNAME:EST
DTSTART:20211107T060000
END:STANDARD
BEGIN:DAYLIGHT
TZOFFSETFROM:-0500
TZOFFSETTO:-0400
TZNAME:EDT
DTSTART:20220313T070000
END:DAYLIGHT
BEGIN:STANDARD
TZOFFSETFROM:-0400
TZOFFSETTO:-0500
TZNAME:EST
DTSTART:20221106T060000
END:STANDARD
BEGIN:DAYLIGHT
TZOFFSETFROM:-0500
TZOFFSETTO:-0400
TZNAME:EDT
DTSTART:20230312T070000
END:DAYLIGHT
BEGIN:STANDARD
TZOFFSETFROM:-0400
TZOFFSETTO:-0500
TZNAME:EST
DTSTART:20231105T060000
END:STANDARD
END:VTIMEZONE
BEGIN:VEVENT
DTSTART;TZID=America/New_York:20220220T180000
DTEND;TZID=America/New_York:20220220T193000
DTSTAMP:20260423T172757
CREATED:20220216T011323Z
LAST-MODIFIED:20220216T011323Z
UID:435-1645380000-1645385400@northparklima.org
SUMMARY:Detecting Evil and Deception
DESCRIPTION:Join us as we dive into Matthew 24:24 and Hebrews 5:4 and other pertinent passages. We live in a time foretold in scriptures\, are you prepared for what is going on all around us?
URL:https://northparklima.org/calendar/detecting-evil-and-deception/
LOCATION:North Park Community Church\, 1321 E Elm\, LIMA\, OH\, 45804\, United States
END:VEVENT
BEGIN:VEVENT
DTSTART;TZID=America/New_York:20220219T170000
DTEND;TZID=America/New_York:20220219T170000
DTSTAMP:20260423T172757
CREATED:20220130T143623Z
LAST-MODIFIED:20220130T152058Z
UID:428-1645290000-1645290000@northparklima.org
SUMMARY:Bingo Night
DESCRIPTION:Join us Saturday\, February 19th\, 2022\, at 5 p:m for Bingo Night.
URL:https://northparklima.org/calendar/bingo-night/
LOCATION:North Park Community Church\, 1321 E Elm\, LIMA\, OH\, 45804\, United States
END:VEVENT
BEGIN:VEVENT
DTSTART;TZID=America/New_York:20220130T100000
DTEND;TZID=America/New_York:20220130T123000
DTSTAMP:20260423T172757
CREATED:20220108T160705Z
LAST-MODIFIED:20220108T160705Z
UID:411-1643536800-1643545800@northparklima.org
SUMMARY:Family Meal
DESCRIPTION:Join us Sunday\, January 30th\, 2022 for our family meal immediately following the service.
URL:https://northparklima.org/calendar/family-meal/
LOCATION:North Park Community Church\, 1321 E Elm\, LIMA\, OH\, 45804\, United States
END:VEVENT
BEGIN:VEVENT
DTSTART;TZID=America/New_York:20211219T190000
DTEND;TZID=America/New_York:20211219T200000
DTSTAMP:20260423T172757
CREATED:20211213T133643Z
LAST-MODIFIED:20211213T133643Z
UID:352-1639940400-1639944000@northparklima.org
SUMMARY:Special Light of the World Christmas Service
DESCRIPTION:Join us for our special Light of the World Christmas Service. In a time of great darkness\, we need the Light of the World!
URL:https://northparklima.org/calendar/special-light-of-the-world-christmas-service/
LOCATION:North Park Community Church\, 1321 E Elm\, LIMA\, OH\, 45804\, United States
END:VEVENT
BEGIN:VEVENT
DTSTART;TZID=America/New_York:20211219T100000
DTEND;TZID=America/New_York:20211219T233000
DTSTAMP:20260423T172757
CREATED:20211213T133408Z
LAST-MODIFIED:20211213T133408Z
UID:350-1639908000-1639956600@northparklima.org
SUMMARY:The Light of Christmas
DESCRIPTION:In a time of great darkness\, we need the Light of the World!
URL:https://northparklima.org/calendar/the-light-of-christmas-2/
LOCATION:North Park Community Church\, 1321 E Elm\, LIMA\, OH\, 45804\, United States
END:VEVENT
BEGIN:VEVENT
DTSTART;TZID=America/New_York:20211212T103000
DTEND;TZID=America/New_York:20211212T233000
DTSTAMP:20260423T172757
CREATED:20211211T184810Z
LAST-MODIFIED:20211211T184810Z
UID:274-1639305000-1639351800@northparklima.org
SUMMARY:The Light of Christmas
DESCRIPTION:In a time of great darkness\, we need the Light of the World!
URL:https://northparklima.org/calendar/the-light-of-christmas/
LOCATION:North Park Community Church\, 1321 E Elm\, LIMA\, OH\, 45804\, United States
END:VEVENT
END:VCALENDAR