BEGIN:VCALENDAR
VERSION:2.0
PRODID:-//North Park Church - ECPv6.15.20//NONSGML v1.0//EN
CALSCALE:GREGORIAN
METHOD:PUBLISH
X-WR-CALNAME:North Park Church
X-ORIGINAL-URL:https://northparklima.org
X-WR-CALDESC:Events for North Park Church
REFRESH-INTERVAL;VALUE=DURATION:PT1H
X-Robots-Tag:noindex
X-PUBLISHED-TTL:PT1H
BEGIN:VTIMEZONE
TZID:America/New_York
BEGIN:DAYLIGHT
TZOFFSETFROM:-0500
TZOFFSETTO:-0400
TZNAME:EDT
DTSTART:20200308T070000
END:DAYLIGHT
BEGIN:STANDARD
TZOFFSETFROM:-0400
TZOFFSETTO:-0500
TZNAME:EST
DTSTART:20201101T060000
END:STANDARD
BEGIN:DAYLIGHT
TZOFFSETFROM:-0500
TZOFFSETTO:-0400
TZNAME:EDT
DTSTART:20210314T070000
END:DAYLIGHT
BEGIN:STANDARD
TZOFFSETFROM:-0400
TZOFFSETTO:-0500
TZNAME:EST
DTSTART:20211107T060000
END:STANDARD
BEGIN:DAYLIGHT
TZOFFSETFROM:-0500
TZOFFSETTO:-0400
TZNAME:EDT
DTSTART:20220313T070000
END:DAYLIGHT
BEGIN:STANDARD
TZOFFSETFROM:-0400
TZOFFSETTO:-0500
TZNAME:EST
DTSTART:20221106T060000
END:STANDARD
BEGIN:DAYLIGHT
TZOFFSETFROM:-0500
TZOFFSETTO:-0400
TZNAME:EDT
DTSTART:20230312T070000
END:DAYLIGHT
BEGIN:STANDARD
TZOFFSETFROM:-0400
TZOFFSETTO:-0500
TZNAME:EST
DTSTART:20231105T060000
END:STANDARD
BEGIN:DAYLIGHT
TZOFFSETFROM:-0500
TZOFFSETTO:-0400
TZNAME:EDT
DTSTART:20240310T070000
END:DAYLIGHT
BEGIN:STANDARD
TZOFFSETFROM:-0400
TZOFFSETTO:-0500
TZNAME:EST
DTSTART:20241103T060000
END:STANDARD
BEGIN:DAYLIGHT
TZOFFSETFROM:-0500
TZOFFSETTO:-0400
TZNAME:EDT
DTSTART:20250309T070000
END:DAYLIGHT
BEGIN:STANDARD
TZOFFSETFROM:-0400
TZOFFSETTO:-0500
TZNAME:EST
DTSTART:20251102T060000
END:STANDARD
BEGIN:DAYLIGHT
TZOFFSETFROM:-0500
TZOFFSETTO:-0400
TZNAME:EDT
DTSTART:20260308T070000
END:DAYLIGHT
BEGIN:STANDARD
TZOFFSETFROM:-0400
TZOFFSETTO:-0500
TZNAME:EST
DTSTART:20261101T060000
END:STANDARD
END:VTIMEZONE
BEGIN:VEVENT
DTSTART;TZID=America/New_York:20250205T190000
DTEND;TZID=America/New_York:20250205T210000
DTSTAMP:20260423T152406
CREATED:20241213T102655Z
LAST-MODIFIED:20241223T221056Z
UID:1151-1738782000-1738789200@northparklima.org
SUMMARY:True Identity with Jamie Winship
DESCRIPTION:. \nJamie and his wife Donna will be in Lima for a combined service. He will be sharing how fear\, guilt and shame keep us separated and how not understanding our true identity hinders the advancement of God’s kingdom \nAbout Jamie and Donna Winship
URL:https://northparklima.org/calendar/true-identity-with-jamie-winship/
LOCATION:Cornerstone Church\, 2000 N. Cole St.\, Lima\, OH\, 45801\, United States
ORGANIZER;CN="NorthPark Community Church":MAILTO:aaron@northparklima.org
END:VEVENT
BEGIN:VEVENT
DTSTART;TZID=America/New_York:20250119T180000
DTEND;TZID=America/New_York:20250119T193000
DTSTAMP:20260423T152406
CREATED:20241223T220806Z
LAST-MODIFIED:20241223T220806Z
UID:1170-1737309600-1737315000@northparklima.org
SUMMARY:Freedom in Christ
DESCRIPTION:  \nNorth Park will be offering this life changing course on Sunday evenings beginning January 19th at 6pm. Pre-registration is not required but recommended You will be able to register at the NPCC welcome desk\, facebook\, or website. \nRegister
URL:https://northparklima.org/calendar/freedom-in-christ/
LOCATION:North Park Community Church\, 1321 E Elm\, LIMA\, OH\, 45804\, United States
ORGANIZER;CN="NorthPark Community Church":MAILTO:aaron@northparklima.org
END:VEVENT
BEGIN:VEVENT
DTSTART;TZID=America/New_York:20250119T180000
DTEND;TZID=America/New_York:20250119T193000
DTSTAMP:20260423T152406
CREATED:20241219T223739Z
LAST-MODIFIED:20241219T223739Z
UID:1165-1737309600-1737315000@northparklima.org
SUMMARY:The Grace Course
DESCRIPTION:The Grace Course is a powerful\, eight-week study that will equip you to: \n• Deal with the false motivators of guilt\, shame\, fear\, and pride\n• Overcome striving and performing\n• Remain secure in God’s love\n• Become an agent of reconciliation and healing in the world\n• It is recommended but not required that you first complete the Freedom In Christ Course before taking the Grace Course. \nNorth Park will be offering this life changing course on Sunday evenings beginning Sunday January 19th at 6pm. Pre-registration is not required but recommended. You will be able to register at the NPCC welcome Desk\, Facebook or website. \nRegister \n\nNorth Park Community Church 1321 E. Elm\, Lima Oh 45804\nPh. 419-224-6722
URL:https://northparklima.org/calendar/the-grace-course/
LOCATION:North Park Community Church\, 1321 E Elm\, LIMA\, OH\, 45804\, United States
ORGANIZER;CN="NorthPark Community Church":MAILTO:aaron@northparklima.org
END:VEVENT
BEGIN:VEVENT
DTSTART;TZID=America/New_York:20220602T080000
DTEND;TZID=America/New_York:20220602T170000
DTSTAMP:20260423T152406
CREATED:20220603T011636Z
LAST-MODIFIED:20220603T011636Z
UID:503-1654156800-1654189200@northparklima.org
SUMMARY:Party in the Park
DESCRIPTION:Please join us Sunday\, June 26th at Lincoln Park for Party in the Park! It will be from 4:00 pm to 7:30 pm. Bring the whole family for great family fun in the park!
URL:https://northparklima.org/calendar/party-in-the-park/
LOCATION:Lincoln Park\, 199 S. Shawnee St.\, Lima\, OH\, 45804\, United States
END:VEVENT
BEGIN:VEVENT
DTSTART;TZID=America/New_York:20220505T180000
DTEND;TZID=America/New_York:20220505T210000
DTSTAMP:20260423T152406
CREATED:20220501T125414Z
LAST-MODIFIED:20220501T125414Z
UID:488-1651773600-1651784400@northparklima.org
SUMMARY:Allen County National Day of Prayer & Prayer Walk
DESCRIPTION:On Thursday May 5th\, 2022 there will be a Prayer Walk in Lima. The walks to the Lima square will begin at 6:30 pm. Prayer and worship in the Lima Square starts at 7pm and ends at 9pm. \nThere will be four starting points to assemble for the Prayer walk. \nNorth: Heir Force Community School 150 W. Grand Ave \nSouth: NewLife Christian Ministries 202 W. Kibby St. \nEast: Lima Stadium Bellefontaine Ave \nWest: Mercy Health Parking Lot W. Market St. and N. Charles St. \nThere will be a shuttle provided in the square at 6:00pm to take you to the starting location. \n 
URL:https://northparklima.org/calendar/allen-county-national-day-of-prayer-prayer-walk/
LOCATION:OH
END:VEVENT
BEGIN:VEVENT
DTSTART;TZID=America/New_York:20220415T190000
DTEND;TZID=America/New_York:20220415T190000
DTSTAMP:20260423T152406
CREATED:20220414T005413Z
LAST-MODIFIED:20220414T005413Z
UID:480-1650049200-1650049200@northparklima.org
SUMMARY:Good Friday Service
DESCRIPTION:Join us on Friday\, April 15th at 7:00 pm for our Good Friday Service
URL:https://northparklima.org/calendar/good-friday-service/
LOCATION:North Park Community Church\, 1321 E Elm\, LIMA\, OH\, 45804\, United States
END:VEVENT
BEGIN:VEVENT
DTSTART;TZID=America/New_York:20220413T080000
DTEND;TZID=America/New_York:20220413T170000
DTSTAMP:20260423T152406
CREATED:20220414T005654Z
LAST-MODIFIED:20220414T005654Z
UID:482-1649836800-1649869200@northparklima.org
SUMMARY:Easter Sunday Pancake Breakfast
DESCRIPTION:Join us Sunday\, April 17th at 800 am for Easter Sunday Pancake Breakfast then join us for our Easter Service at 10 am.
URL:https://northparklima.org/calendar/easter-sunday/
LOCATION:OH
END:VEVENT
BEGIN:VEVENT
DTSTART;TZID=America/New_York:20220410T093000
DTEND;TZID=America/New_York:20220410T120000
DTSTAMP:20260423T152406
CREATED:20220310T000902Z
LAST-MODIFIED:20220310T000902Z
UID:458-1649583000-1649592000@northparklima.org
SUMMARY:Palm Sunday Service
DESCRIPTION:We will be joining a group of churches to celebrate King Jesus on Palm Sunday April 10th. We will all be gathering at the UNOH Event Center on N. Cable Rd. Doors open at 9:30 am and the service starts at 10:30 am.
URL:https://northparklima.org/calendar/palm-sunday-service/
LOCATION:UNOH Event Center\, 1450 N. Cable Rd.\, Lima\, OH\, 45805\, United States
END:VEVENT
BEGIN:VEVENT
DTSTART;TZID=America/New_York:20220319T090000
DTEND;TZID=America/New_York:20220319T110000
DTSTAMP:20260423T152406
CREATED:20220313T115644Z
LAST-MODIFIED:20220313T140923Z
UID:468-1647680400-1647687600@northparklima.org
SUMMARY:How to Start Seedlings
DESCRIPTION:Part of The Grace Movement is also encouraging us to provide for ourselves and our community by starting our own gardens and encouraging others to do so. In order to assist in the process of starting your garden this year\, there will be a class on starting seedlings on Saturday\, March 19 from 9-11 AM. The classes will be held at Living Hope Church located at 2701 Allentown Rd\, Lima\, Oh. There is a $15 fee to cover the cost of supplies. There will be food and door prizes. You will leave with a 72 seed starter set that you will plant during the class. Starting your own garden is a great way to help save money on groceries during this time inflation. Please contact Pam Baker if interested.
URL:https://northparklima.org/calendar/how-to-start-seedlings/
LOCATION:Living Hope Church\, 2701 Allentown Rd.\, Lima\, OH\, 45804\, United States
END:VEVENT
BEGIN:VEVENT
DTSTART;TZID=America/New_York:20220306T180000
DTEND;TZID=America/New_York:20220306T193000
DTSTAMP:20260423T152406
CREATED:20220304T023258Z
LAST-MODIFIED:20220304T023258Z
UID:451-1646589600-1646595000@northparklima.org
SUMMARY:How to Intrepret your Bible
DESCRIPTION:Starting Sunday\, March 6th\, at 6:00 pm\, we will be going through a series on how to interpret your Bible. It is a great series that will really challenge you on how you read your Bible.
URL:https://northparklima.org/calendar/how-to-interpret-your-bible/
LOCATION:North Park Community Church\, 1321 E Elm\, LIMA\, OH\, 45804\, United States
END:VEVENT
BEGIN:VEVENT
DTSTART;TZID=America/New_York:20220305T180000
DTEND;TZID=America/New_York:20220305T200000
DTSTAMP:20260423T152406
CREATED:20220130T143342Z
LAST-MODIFIED:20220130T152134Z
UID:424-1646503200-1646510400@northparklima.org
SUMMARY:Movie Night
DESCRIPTION:Join us on Saturday\, March 5th at 6 pm\, 2022 for a Movie Night. We will be showing the movie Sabina Tortured for Christ the Nazi years. \nAbout the movie “Great character is sometimes forged amid great turmoil. Sabina: Tortured for Christ\, the Nazi Years is the story of how God’s love transformed an ambitious\, atheistic hedonist into one of the greatest Christian women of the 20th century. The film opens with Sabina Wurmbrand risking her life to show Christ’s love to a trio of Nazi soldiers. Why? Why would a Jewish Christian risk her life to help her enemies – members of the army that killed her entire family? Experience the amazing true story that has redefined the concepts of love and forgiveness for millions around the world”.
URL:https://northparklima.org/calendar/movie-night/
LOCATION:North Park Community Church\, 1321 E Elm\, LIMA\, OH\, 45804\, United States
END:VEVENT
BEGIN:VEVENT
DTSTART;TZID=America/New_York:20220227T180000
DTEND;TZID=America/New_York:20220227T193000
DTSTAMP:20260423T152406
CREATED:20220216T011532Z
LAST-MODIFIED:20220216T011532Z
UID:439-1645984800-1645990200@northparklima.org
SUMMARY:Detecting Evil and Deception
DESCRIPTION:Join us as we dive into Matthew 24:24 and Hebrews 5:4 and other pertinent passages. We live in a time foretold in scriptures\, are you prepared for what is going on all around us?
URL:https://northparklima.org/calendar/detecting-evil-and-deception-2/
LOCATION:North Park Community Church\, 1321 E Elm\, LIMA\, OH\, 45804\, United States
END:VEVENT
BEGIN:VEVENT
DTSTART;TZID=America/New_York:20220220T180000
DTEND;TZID=America/New_York:20220220T193000
DTSTAMP:20260423T152406
CREATED:20220216T011323Z
LAST-MODIFIED:20220216T011323Z
UID:435-1645380000-1645385400@northparklima.org
SUMMARY:Detecting Evil and Deception
DESCRIPTION:Join us as we dive into Matthew 24:24 and Hebrews 5:4 and other pertinent passages. We live in a time foretold in scriptures\, are you prepared for what is going on all around us?
URL:https://northparklima.org/calendar/detecting-evil-and-deception/
LOCATION:North Park Community Church\, 1321 E Elm\, LIMA\, OH\, 45804\, United States
END:VEVENT
BEGIN:VEVENT
DTSTART;TZID=America/New_York:20220219T170000
DTEND;TZID=America/New_York:20220219T170000
DTSTAMP:20260423T152406
CREATED:20220130T143623Z
LAST-MODIFIED:20220130T152058Z
UID:428-1645290000-1645290000@northparklima.org
SUMMARY:Bingo Night
DESCRIPTION:Join us Saturday\, February 19th\, 2022\, at 5 p:m for Bingo Night.
URL:https://northparklima.org/calendar/bingo-night/
LOCATION:North Park Community Church\, 1321 E Elm\, LIMA\, OH\, 45804\, United States
END:VEVENT
BEGIN:VEVENT
DTSTART;TZID=America/New_York:20220130T100000
DTEND;TZID=America/New_York:20220130T123000
DTSTAMP:20260423T152406
CREATED:20220108T160705Z
LAST-MODIFIED:20220108T160705Z
UID:411-1643536800-1643545800@northparklima.org
SUMMARY:Family Meal
DESCRIPTION:Join us Sunday\, January 30th\, 2022 for our family meal immediately following the service.
URL:https://northparklima.org/calendar/family-meal/
LOCATION:North Park Community Church\, 1321 E Elm\, LIMA\, OH\, 45804\, United States
END:VEVENT
BEGIN:VEVENT
DTSTART;TZID=America/New_York:20211219T190000
DTEND;TZID=America/New_York:20211219T200000
DTSTAMP:20260423T152406
CREATED:20211213T133643Z
LAST-MODIFIED:20211213T133643Z
UID:352-1639940400-1639944000@northparklima.org
SUMMARY:Special Light of the World Christmas Service
DESCRIPTION:Join us for our special Light of the World Christmas Service. In a time of great darkness\, we need the Light of the World!
URL:https://northparklima.org/calendar/special-light-of-the-world-christmas-service/
LOCATION:North Park Community Church\, 1321 E Elm\, LIMA\, OH\, 45804\, United States
END:VEVENT
BEGIN:VEVENT
DTSTART;TZID=America/New_York:20211219T100000
DTEND;TZID=America/New_York:20211219T233000
DTSTAMP:20260423T152406
CREATED:20211213T133408Z
LAST-MODIFIED:20211213T133408Z
UID:350-1639908000-1639956600@northparklima.org
SUMMARY:The Light of Christmas
DESCRIPTION:In a time of great darkness\, we need the Light of the World!
URL:https://northparklima.org/calendar/the-light-of-christmas-2/
LOCATION:North Park Community Church\, 1321 E Elm\, LIMA\, OH\, 45804\, United States
END:VEVENT
BEGIN:VEVENT
DTSTART;TZID=America/New_York:20211212T103000
DTEND;TZID=America/New_York:20211212T233000
DTSTAMP:20260423T152406
CREATED:20211211T184810Z
LAST-MODIFIED:20211211T184810Z
UID:274-1639305000-1639351800@northparklima.org
SUMMARY:The Light of Christmas
DESCRIPTION:In a time of great darkness\, we need the Light of the World!
URL:https://northparklima.org/calendar/the-light-of-christmas/
LOCATION:North Park Community Church\, 1321 E Elm\, LIMA\, OH\, 45804\, United States
END:VEVENT
END:VCALENDAR